BEGIN:VCALENDAR
VERSION:2.0
PRODID:-//Cheers N Paint - ECPv6.15.20//NONSGML v1.0//EN
CALSCALE:GREGORIAN
METHOD:PUBLISH
X-ORIGINAL-URL:https://cheersnpaint.com
X-WR-CALDESC:Events for Cheers N Paint
REFRESH-INTERVAL;VALUE=DURATION:PT1H
X-Robots-Tag:noindex
X-PUBLISHED-TTL:PT1H
BEGIN:VTIMEZONE
TZID:America/New_York
BEGIN:DAYLIGHT
TZOFFSETFROM:-0500
TZOFFSETTO:-0400
TZNAME:EDT
DTSTART:20250309T070000
END:DAYLIGHT
BEGIN:STANDARD
TZOFFSETFROM:-0400
TZOFFSETTO:-0500
TZNAME:EST
DTSTART:20251102T060000
END:STANDARD
BEGIN:DAYLIGHT
TZOFFSETFROM:-0500
TZOFFSETTO:-0400
TZNAME:EDT
DTSTART:20260308T070000
END:DAYLIGHT
BEGIN:STANDARD
TZOFFSETFROM:-0400
TZOFFSETTO:-0500
TZNAME:EST
DTSTART:20261101T060000
END:STANDARD
BEGIN:DAYLIGHT
TZOFFSETFROM:-0500
TZOFFSETTO:-0400
TZNAME:EDT
DTSTART:20270314T070000
END:DAYLIGHT
BEGIN:STANDARD
TZOFFSETFROM:-0400
TZOFFSETTO:-0500
TZNAME:EST
DTSTART:20271107T060000
END:STANDARD
END:VTIMEZONE
BEGIN:VEVENT
DTSTART;TZID=America/New_York:20260516T150000
DTEND;TZID=America/New_York:20260516T170000
DTSTAMP:20260424T145722
CREATED:20260420T191609Z
LAST-MODIFIED:20260420T191609Z
UID:10007775-1778943600-1778950800@cheersnpaint.com
SUMMARY:Private Party - Teen Party
DESCRIPTION:Contact us today for your next private event cheersnpaintcary@gmail or 919.995.6238
URL:https://cheersnpaint.com/event/private-party-teen-party-2/
LOCATION:Cheers N Paint Art Studio\, 2773 HWY 55\, Cary\, NC\, 27519\, United States
CATEGORIES:Kids Birthdays,Private Parties
ATTACH;FMTTYPE=image/png:https://cheersnpaint.com/wp-content/uploads/2021/10/Private-event.png
ORGANIZER;CN="Lauren":MAILTO:salza.lauren@gmail.com
GEO:35.7860846;-78.8731628
X-APPLE-STRUCTURED-LOCATION;VALUE=URI;X-ADDRESS=Cheers N Paint Art Studio 2773 HWY 55 Cary NC 27519 United States;X-APPLE-RADIUS=500;X-TITLE=2773 HWY 55:geo:-78.8731628,35.7860846
END:VEVENT
BEGIN:VEVENT
DTSTART;TZID=America/New_York:20260516T183000
DTEND;TZID=America/New_York:20260516T203000
DTSTAMP:20260424T145722
CREATED:20260420T190613Z
LAST-MODIFIED:20260420T190613Z
UID:10007781-1778956200-1778963400@cheersnpaint.com
SUMMARY:Acrylic Pour: May Paint Class Great for all ages
DESCRIPTION:Acrylic Pour: May Paint Class Great for all ages\nAcrylic Pour is the newest flow art trend and great for all ages. In this Class we learn about how to create flow art\, and different technics. \nWhat you can expect at a Cheers N Paint Art Class\nThank you for considering the Cheers N Paint art studio where our goal is to help you create memories with paint!  \nWe are glad you’ve signed up for the Acrylic Pour Sip and Paint Class\,  Acrylic Pour is the newest flow art trend and great for all ages. \nWe want everyone to have a great experience at our studio.  Our classes start promptly.  Please come 15 minutes before the paint class start time.  That way you’ll have time to set up\, settle in\, relax\, and get ready to have fun creating.   \nPainting is a relaxing\, fun\, and creative experience for all ages and abilities. No experience is necessary as our talented artist instructors are here to help you create a masterpiece.   Experienced artists also enjoy our classes as we customize instruction to all levels.  \nPaint parties are great way to spend time with family and friends.  Come for a date night\, girl’s night out\, family reunion\, or just to TGIF.   Get together with friends\, coworkers\, neighbors\, sorority sisters or club members.  Celebrate a special occasion like a birthday or anniversary and leave with a painting as a memory of the day!  \nBe it in studio or a live\, virtual painting class\, we provide all the art materials you’ll need to paint your masterpiece.  Art materials include a 16 x 20-inch canvas\, paint\, brushes along with live instruction personalized to each customer.   Our talented instructors paint with you\, provide step by step instruction and help you find your inner artist.  For live virtual paint parties\, we provide a “to go” kit including all the art materials you need to paint at your place.  Delivery may be available or pick up your kit at our studio.  Please contact us and make arrangements in advance of the paint party date for virtual paint events and “to go” kits.  \nOur spacious studio is family-friendly\, and we offer paint classes during the day and evening to fit your schedule.  Typically\, our evening classes are best suited for ages 16 and up.  Afternoon classes are offered for younger children.  A paid adult must accompany children 14 and younger to class.  For afternoon classes\, an adult may bring children under 14 without paying for a class\, however a fee is required if the adult paints.  Studio seating is limited for your comfort\, safety and to allow for personalized instruction.  \nPlease feel at home at our studio.  You are welcome to “kick it up a notch” and make your paint class a party with food and drinks.  Cheers N Paint is a BYOB studio and drinks\, including beer\, wine\, cider\, and seltzer (less than 16% alcohol by volume) are permitted.  You must be 21 years old to consume alcoholic beverages in our studio.  Proper I.D. is required. You are welcome to bring snacks or other goodies too.  There is plenty of space in the studio for you to set up your treats.  \nWe love to take photos of our guests painting and having fun all the time!  Most of our photos will at some point be posted on social media including promotional materials.  Please let us know upon your arrival if you would prefer to not be photographed.  \nWe pride ourselves on creating a fun experience for all at Cheers N Paint. We appreciate our many return customers and kind words about our studio.  Please spread the word to others about your experience at Cheers N Paint.  Reviews posted on google\, facebook or the social media site of your choice are greatly appreciated!  \nOur artist instructors make every effort to make your time with us enjoyable.  Like any other service business tips are encouraged and appreciated.  You will find a tip jar at the studio’s sign in table.  We also display information about our artists venmo accounts for your convenience.  \nNOTE: The canvas will need 3 to 7 days to dry. The canvas will need time to dry fully. \nPlease note we do not offer cash refunds once tickets have been purchased.  If you cannot make the paint class tickets are transferable IF studio is contacted not less than 24 hours in advance of event. \nThe Cheers N Paint art studio is located at 2273 Highway RT 55 in Cary\, NC 27519. 
URL:https://cheersnpaint.com/event/acrylic-pour-may-paint-class-great-for-all-ages/
LOCATION:Cheers N Paint Art Studio\, 2773 HWY 55\, Cary\, NC\, 27519\, United States
CATEGORIES:Acrylic Pour Classes,Adult Classes,DIY Arts and Crafts
ATTACH;FMTTYPE=image/jpeg:https://cheersnpaint.com/wp-content/uploads/2023/12/acrylic-pour-dutch-FB.jpg
ORGANIZER;CN="Lauren":MAILTO:salza.lauren@gmail.com
GEO:35.7860846;-78.8731628
X-APPLE-STRUCTURED-LOCATION;VALUE=URI;X-ADDRESS=Cheers N Paint Art Studio 2773 HWY 55 Cary NC 27519 United States;X-APPLE-RADIUS=500;X-TITLE=2773 HWY 55:geo:-78.8731628,35.7860846
END:VEVENT
BEGIN:VEVENT
DTSTART;TZID=America/New_York:20260517T150000
DTEND;TZID=America/New_York:20260517T180000
DTSTAMP:20260424T145722
CREATED:20260324T180826Z
LAST-MODIFIED:20260324T181419Z
UID:10007768-1779030000-1779040800@cheersnpaint.com
SUMMARY:Paint your Pet - Cartoon Version Sip and Paint Class
DESCRIPTION:Paint your Pet – Cartoon Version Sip and Paint Class\nLooking for a fun and creative way to spend your evening in Cary\, NC? Our Paint your Pet – Cartoon Version Sip and Paint Class  is the perfect event for pet lovers\, families\, and anyone who enjoys a relaxed night out with art\, friends\, and maybe a glass of wine. Join us at Cheers N Paint on Sunday May 17th from 3 to 6 pm  for one of our most popular paint and sip classes. \nA Paint and Sip Experience for Pet Lovers\nAt Cheers N Paint\, we believe that painting should be fun\, social\, and stress-free. Our Paint Your Pet class is designed so that everyone can leave with a beautiful portrait\, no matter their artistic skill level. Whether you’re a first-time painter or have experience with art\, our talented instructors will guide you step by step through the process. \nWhat makes this class extra special is that you’ll be creating a painting of your own furry friend! Dogs\, cats\, rabbits\, or even birds – if you love them\, we’ll help you paint them. \nHow It Works\n\n\nRegister early – Spots are limited\, and this class sells out quickly. \n\n\nSend us a photo – After registering\, email a clear\, high-resolution photo of your pet’s face (front view only) to cheersnpaintcary@gmail.com by 5/15/26 \n\n\nUse the subject line: May 2026 Pet Portrait \n\n\nPhotos received after this deadline cannot be accepted. \n\n\n\n\nCustom sketched canvas – Our artists will pre-sketch your pet on a 16×20 canvas before class. \n\n\nPaint with guidance – During the event\, you’ll receive personalized\, step-by-step instruction to bring your pet portrait to life. \n\n\nBy the end of the night\, you’ll leave with a one-of-a-kind painting of your pet that you’ll treasure forever. \nWhy Join Our Paint Your Pet Class?\n\n\nBeginner-Friendly: No painting experience is needed. Our instructors provide personal guidance for every skill level. \n\n\nSocial & Relaxing: Enjoy a stress-free evening filled with creativity\, laughter\, and good company. \n\n\nBYOB Paint and Sip: Bring your favorite wine\, beer\, cider\, or seltzer (under 16% alcohol). Snacks are welcome too! \n\n\nPerfect for Groups: Great for date night\, a girls’ night out\, family gatherings\, or team-building events. \n\n\nMemorable Keepsake: You’ll leave with a beautiful custom portrait of your pet. \n\n\nImportant Class Details\n\n\nPlease arrive 15 minutes early so you have time to check in\, set up\, and settle in before class starts. \n\n\nOur studio is family-friendly\, but evening classes are recommended for ages 16 and up. Younger children are welcome in our afternoon sessions with an adult present. \n\n\nSeating is limited for comfort\, safety\, and to ensure personalized instruction. \n\n\nCheers N Paint is a BYOB studio. Guests must be 21+ with a valid ID to consume alcohol. \n\n\nWe love capturing the fun in our studio! Photos may be taken during class for social media and promotional use. If you prefer not to be photographed\, simply let us know when you arrive. \n\n\nTips for our instructors are always appreciated and can be given by cash or Venmo. \n\n\nTickets are non-refundable\, but may be transferred if you contact us at least 24 hours before class. \n\n\nVisit Cheers N Paint\nThe Cheers N Paint art studio is conveniently located at:📍 2273 Highway RT 55\, Cary\, NC 27519 \nWe’re proud to be one of Cary’s favorite spots for paint and sip classes\, offering a wide variety of painting events for adults and kids. Whether you’re celebrating a special occasion\, planning a group outing\, or just looking for a new creative hobby\, our studio is the place to be. \n✨ Don’t miss out on this unforgettable evening of painting\, sipping\, and celebrating your pet. Reserve your spot today for  Paint Your Pet Class!
URL:https://cheersnpaint.com/event/paint-your-pet-cartoon-version-sip-and-paint-class/
LOCATION:Cheers N Paint Art Studio\, 2773 HWY 55\, Cary\, NC\, 27519\, United States
CATEGORIES:Adult Classes,Paint your Pet Classes
ATTACH;FMTTYPE=image/png:https://cheersnpaint.com/wp-content/uploads/2026/03/cartoon-paint-your-pet-class-cheers-n-paint-cary-NC.png
ORGANIZER;CN="Cheers N Paint":MAILTO:cheersnpaintcary@gmail.com
GEO:35.7860846;-78.8731628
X-APPLE-STRUCTURED-LOCATION;VALUE=URI;X-ADDRESS=Cheers N Paint Art Studio 2773 HWY 55 Cary NC 27519 United States;X-APPLE-RADIUS=500;X-TITLE=2773 HWY 55:geo:-78.8731628,35.7860846
END:VEVENT
END:VCALENDAR